BEGIN:VCALENDAR
VERSION:2.0
PRODID:SchoolNow
CALSCALE:GREGORIAN
BEGIN:VEVENT
UID:d2fc36aa-3842-11f1-ac66-0a58a9feac02
DTSTAMP:20260424T055028Z
SUMMARY:JV Girls Golf @ Moses Lake
URL;VALUE=URI:https://www.wenatcheeschools.org/whs/athletics/calendar/89940
 34/jv-girls-golf-moses-lake
DTSTART:20260415T223000Z
DTEND:20260416T000000Z
END:VEVENT
END:VCALENDAR
