BEGIN:VCALENDAR
VERSION:2.0
PRODID:SchoolNow
CALSCALE:GREGORIAN
BEGIN:VEVENT
UID:d2fc3786-3842-11f1-9401-0a58a9feac02
DTSTAMP:20260424T055028Z
SUMMARY:V Girls Golf @ East Valley
URL;VALUE=URI:https://www.wenatcheeschools.org/whs/athletics/calendar/89940
 35/v-girls-golf-east-valley
DTSTART:20260424T200000Z
DTEND:20260425T000000Z
END:VEVENT
END:VCALENDAR
