BEGIN:VCALENDAR
VERSION:2.0
PRODID:SchoolNow
CALSCALE:GREGORIAN
BEGIN:VEVENT
UID:d2fc3862-3842-11f1-9e28-0a58a9feac02
DTSTAMP:20260424T055028Z
SUMMARY:JV Fastpitch Softball @ Cascade HS
URL;VALUE=URI:https://www.wenatcheeschools.org/whs/athletics/calendar/89940
 36/jv-fastpitch-softball-cascade-hs
DTSTART:20260424T003000Z
DTEND:20260424T023000Z
END:VEVENT
END:VCALENDAR
