BEGIN:VCALENDAR
VERSION:2.0
PRODID:SchoolNow
CALSCALE:GREGORIAN
BEGIN:VEVENT
UID:d2fc393e-3842-11f1-b6df-0a58a9feac02
DTSTAMP:20260424T055028Z
SUMMARY:Track & Field VS Moses Lake
URL;VALUE=URI:https://www.wenatcheeschools.org/whs/athletics/calendar/89940
 37/track-field-vs-moses-lake
DTSTART:20260428T230000Z
DTEND:20260429T030000Z
END:VEVENT
END:VCALENDAR
