BEGIN:VCALENDAR
VERSION:2.0
PRODID:SchoolNow
CALSCALE:GREGORIAN
BEGIN:VEVENT
UID:d2fc3a1a-3842-11f1-a9bf-0a58a9feac02
DTSTAMP:20260424T055028Z
SUMMARY:JV/V Fastpitch Softball @ Eisenhower
URL;VALUE=URI:https://www.wenatcheeschools.org/whs/athletics/calendar/89940
 38/jv-v-fastpitch-softball-eisenhower
DTSTART:20260428T230000Z
DTEND:20260429T030000Z
END:VEVENT
END:VCALENDAR
