BEGIN:VCALENDAR
VERSION:2.0
PRODID:SchoolNow
CALSCALE:GREGORIAN
BEGIN:VEVENT
UID:d2fc3af6-3842-11f1-8352-0a58a9feac02
DTSTAMP:20260424T055028Z
SUMMARY:V Fastpitch Softball VS Eisenhower
URL;VALUE=URI:https://www.wenatcheeschools.org/whs/athletics/calendar/89940
 39/v-fastpitch-softball-vs-eisenhower
DTSTART:20260421T230000Z
DTEND:20260422T023000Z
END:VEVENT
END:VCALENDAR
