BEGIN:VCALENDAR
VERSION:2.0
PRODID:SchoolNow
CALSCALE:GREGORIAN
BEGIN:VEVENT
UID:d2fc3c0e-3842-11f1-8e82-0a58a9feac02
DTSTAMP:20260424T055028Z
SUMMARY:JV Baseball VS Eisenhower
URL;VALUE=URI:https://www.wenatcheeschools.org/whs/athletics/calendar/89940
 40/jv-baseball-vs-eisenhower
DTSTART:20260411T180000Z
DTEND:20260411T220000Z
END:VEVENT
END:VCALENDAR
