BEGIN:VCALENDAR
VERSION:2.0
PRODID:SchoolNow
CALSCALE:GREGORIAN
BEGIN:VEVENT
UID:d2fc3cf4-3842-11f1-be2c-0a58a9feac02
DTSTAMP:20260424T055028Z
SUMMARY:V Girls Golf @ Mt Spokane
URL;VALUE=URI:https://www.wenatcheeschools.org/whs/athletics/calendar/89940
 41/v-girls-golf-mt-spokane
DTSTART:20260417T180000Z
DTEND:20260417T230000Z
END:VEVENT
END:VCALENDAR
