BEGIN:VCALENDAR
VERSION:2.0
PRODID:SchoolNow
CALSCALE:GREGORIAN
BEGIN:VEVENT
UID:d2fc3dd0-3842-11f1-be37-0a58a9feac02
DTSTAMP:20260424T055028Z
SUMMARY:C Boys Soccer
URL;VALUE=URI:https://www.wenatcheeschools.org/whs/athletics/calendar/89940
 42/c-boys-soccer
DTSTART:20260416T233000Z
DTEND:20260417T013000Z
END:VEVENT
END:VCALENDAR
