BEGIN:VCALENDAR
VERSION:2.0
PRODID:SchoolNow
CALSCALE:GREGORIAN
BEGIN:VEVENT
UID:d2fc3eac-3842-11f1-b1d2-0a58a9feac02
DTSTAMP:20260424T055028Z
SUMMARY:Tennis @ Moses Lake
URL;VALUE=URI:https://www.wenatcheeschools.org/whs/athletics/calendar/89940
 43/tennis-moses-lake
DTSTART:20260421T220000Z
DTEND:20260422T010000Z
END:VEVENT
END:VCALENDAR
