BEGIN:VCALENDAR
VERSION:2.0
PRODID:SchoolNow
CALSCALE:GREGORIAN
BEGIN:VEVENT
UID:d2fc3f88-3842-11f1-b56d-0a58a9feac02
DTSTAMP:20260424T055028Z
SUMMARY:Track & Field @ AC Davis
URL;VALUE=URI:https://www.wenatcheeschools.org/whs/athletics/calendar/89940
 44/track-field-ac-davis
DTSTART:20260410T160000Z
DTEND:20260411T040000Z
END:VEVENT
END:VCALENDAR
