BEGIN:VCALENDAR
VERSION:2.0
PRODID:SchoolNow
CALSCALE:GREGORIAN
BEGIN:VEVENT
UID:d2fc406e-3842-11f1-9dee-0a58a9feac02
DTSTAMP:20260424T115508Z
SUMMARY:V Fastpitch Softball VS AC Davis
URL;VALUE=URI:https://www.wenatcheeschools.org/whs/athletics/calendar/89940
 45/v-fastpitch-softball-vs-ac-davis
DTSTART:20260501T230000Z
DTEND:20260502T023000Z
END:VEVENT
END:VCALENDAR
