BEGIN:VCALENDAR
VERSION:2.0
PRODID:SchoolNow
CALSCALE:GREGORIAN
BEGIN:VEVENT
UID:d2fc4226-3842-11f1-b926-0a58a9feac02
DTSTAMP:20260424T055028Z
SUMMARY:JV Girls Golf @ Kamiakin
URL;VALUE=URI:https://www.wenatcheeschools.org/whs/athletics/calendar/89940
 47/jv-girls-golf-kamiakin
DTSTART:20260409T220000Z
DTEND:20260410T010000Z
END:VEVENT
END:VCALENDAR
