BEGIN:VCALENDAR
VERSION:2.0
PRODID:SchoolNow
CALSCALE:GREGORIAN
BEGIN:VEVENT
UID:d2fc4302-3842-11f1-a164-0a58a9feac02
DTSTAMP:20260424T055028Z
SUMMARY:C Boys Soccer @ Quincy
URL;VALUE=URI:https://www.wenatcheeschools.org/whs/athletics/calendar/89940
 48/c-boys-soccer-quincy
DTSTART:20260414T230000Z
DTEND:20260415T003000Z
END:VEVENT
END:VCALENDAR
