BEGIN:VCALENDAR
VERSION:2.0
PRODID:SchoolNow
CALSCALE:GREGORIAN
BEGIN:VEVENT
UID:d2fc43de-3842-11f1-a41c-0a58a9feac02
DTSTAMP:20260424T055028Z
SUMMARY:V Boys Golf @ Sunnyside
URL;VALUE=URI:https://www.wenatcheeschools.org/whs/athletics/calendar/89940
 49/v-boys-golf-sunnyside
DTSTART:20260416T180000Z
DTEND:20260416T220000Z
END:VEVENT
END:VCALENDAR
