BEGIN:VCALENDAR
VERSION:2.0
PRODID:SchoolNow
CALSCALE:GREGORIAN
BEGIN:VEVENT
UID:d2fc44c4-3842-11f1-94a4-0a58a9feac02
DTSTAMP:20260424T055028Z
SUMMARY:C Boys Soccer @ Ephrata
URL;VALUE=URI:https://www.wenatcheeschools.org/whs/athletics/calendar/89940
 50/c-boys-soccer-ephrata
DTSTART:20260424T230000Z
DTEND:20260425T000000Z
END:VEVENT
END:VCALENDAR
