BEGIN:VCALENDAR
VERSION:2.0
PRODID:SchoolNow
CALSCALE:GREGORIAN
BEGIN:VEVENT
UID:19a51808-d469-11f0-9a30-0e8c7ad33dcf
DTSTAMP:20260420T160507Z
SUMMARY:Prom 2026
URL;VALUE=URI:https://www.wenatcheeschools.org/whs/calendar/8819965/prom-20
 26
DTSTART:20260426T020000Z
DTEND:20260426T050000Z
END:VEVENT
END:VCALENDAR
