BEGIN:VCALENDAR
VERSION:2.0
PRODID:SchoolNow
CALSCALE:GREGORIAN
BEGIN:VEVENT
UID:ccc15284-1cc7-11f1-8f26-0a58a9feac02
DTSTAMP:20260420T160507Z
SUMMARY:Unified Prom: Hollywood Nights
URL;VALUE=URI:https://www.wenatcheeschools.org/whs/calendar/8908164/unified
 -prom-hollywood-nights
DTSTART:20260424T160000Z
DTEND:20260424T210000Z
END:VEVENT
END:VCALENDAR
