BEGIN:VCALENDAR
VERSION:2.0
PRODID:SchoolNow
CALSCALE:GREGORIAN
BEGIN:VEVENT
UID:d6dadf48-2a1d-11f1-b254-0a58a9feac02
DTSTAMP:20260420T160507Z
SUMMARY:Wenatchee FFA Plant Sale
LOCATION:WHS Greenhouses
URL;VALUE=URI:https://www.wenatcheeschools.org/whs/calendar/8950762/wenatch
 ee-ffa-plant-sale
DTSTART;VALUE=DATE:20260429
DTEND;VALUE=DATE:20260502
END:VEVENT
END:VCALENDAR
