BEGIN:VCALENDAR
VERSION:2.0
PRODID:SchoolNow
CALSCALE:GREGORIAN
BEGIN:VEVENT
UID:5c1a6d1a-185b-11f1-ad3c-0a58a9feac02
DTSTAMP:20260421T014507Z
SUMMARY:Mid Winter Break
URL;VALUE=URI:https://www.wenatcheeschools.org/wshs/calendar/8892384/mid-wi
 nter-break
DTSTART;VALUE=DATE:20270211
DTEND;VALUE=DATE:20270217
END:VEVENT
END:VCALENDAR
