BEGIN:VCALENDAR
VERSION:2.0
PRODID:SchoolNow
CALSCALE:GREGORIAN
BEGIN:VEVENT
UID:5143bdc2-2a28-11f1-9e23-0a58a9feac02
DTSTAMP:20260419T133007Z
SUMMARY:Labor Day - No School
URL;VALUE=URI:https://www.wenatcheeschools.org/wshs/calendar/8950792/labor-
 day-no-school
DTSTART;VALUE=DATE:20260907
DTEND;VALUE=DATE:20260908
END:VEVENT
END:VCALENDAR
