BEGIN:VCALENDAR
VERSION:2.0
PRODID:SchoolNow
CALSCALE:GREGORIAN
BEGIN:VEVENT
UID:5143c8b2-2a28-11f1-a237-0a58a9feac02
DTSTAMP:20260419T133007Z
SUMMARY:First Day of School
URL;VALUE=URI:https://www.wenatcheeschools.org/wshs/calendar/8950793/first-
 day-of-school
DTSTART;VALUE=DATE:20260826
DTEND;VALUE=DATE:20260827
END:VEVENT
END:VCALENDAR
